BEGIN:VCALENDAR
VERSION:2.0
PRODID:Compton, CA Calendar Creator
METHOD:PUBLISH
BEGIN:VEVENT
DTSTAMP:20260318T150352
DTSTART:20260412T150000
DTEND:20260412T190000
SUMMARY:District 2 - 2026 Talent Hunt
DESCRIPTION:<p>Flyer:&nbsp;<a href="https://compton.prod-as.govaccess.org/home/showpublisheddocument/13604/639094429309400000" target="_blank" rel="noopener">District 2 Talent Show</a></p><p><p style="text-align: center;">&nbsp;</p></p><p><p style="text-align: center;">&nbsp;</p></p>
X-ALT-DESC;FMTTYPE=text/html:<p>Flyer:&nbsp;<a href="https://compton.prod-as.govaccess.org/home/showpublisheddocument/13604/639094429309400000" target="_blank" rel="noopener">District 2 Talent Show</a></p><p><p style="text-align: center;">&nbsp;</p></p><p><p style="text-align: center;">&nbsp;</p></p>
LOCATION:Dollarhide Community Center\, 301 N. Tamarind Ave Compton\, California 90220
CLASS:PUBLIC
END:VEVENT
END:VCALENDAR
