BEGIN:VCALENDAR
VERSION:2.0
PRODID:Compton, CA Calendar Creator
METHOD:PUBLISH
BEGIN:VEVENT
DTSTAMP:20260303T103451
DTSTART:20260404T120000
DTEND:20260404T140000
SUMMARY:Annual Easter Eggstravaganza
DESCRIPTION:<p>Flyer:&nbsp;<a href="https://compton.prod-as.govaccess.org/home/showpublisheddocument/13524/639081307101870000" target="_blank" rel="noopener">District 2 – Easter Eggstravaganza</a></p><p><p style="text-align: center;"></p></p>
X-ALT-DESC;FMTTYPE=text/html:<p>Flyer:&nbsp;<a href="https://compton.prod-as.govaccess.org/home/showpublisheddocument/13524/639081307101870000" target="_blank" rel="noopener">District 2 – Easter Eggstravaganza</a></p><p><p style="text-align: center;"></p></p>
LOCATION:Lueders Park\, 1500 East Rosecrans Ave Compton\, California 90221
CLASS:PUBLIC
END:VEVENT
END:VCALENDAR
