BEGIN:VCALENDAR
VERSION:2.0
PRODID:Compton, CA Calendar Creator
METHOD:PUBLISH
BEGIN:VEVENT
DTSTAMP:20260312T140357
DTSTART:20260316T000000
DTEND:20260513T235900
SUMMARY:LA County Sanitation Districts proposed rate changes
DESCRIPTION:<p>According to Los Angeles County Sanitation Districts (LACSD), certain sanitation districts are considering a<a href="https://www.lacsd.org/home/showdocument?id=15860&amp;t=639035610934086532" target="_blank" rel="noopener"> change in wastewater service charge rates</a>. This includes the City of Compton which is<a href="https://www.lacsd.org/services/wastewater-programs-permits/wastewater-revenue-program/who-we-are-what-we-do-for-you" target="_blank" rel="noopener"> located </a>in districts 1, 2, and 8.</p><p> Property owners in affected districts received a mailed notice explaining the proposed rates and next steps.</p><p>Under Prop 218,&nbsp;property owners file written protests opposing the proposed rates before the end of the public hearing. <a href="https://www.lacsd.org/services/wastewater-sewage/wastewater-rates/prop-218" target="_blank" rel="noopener">Click here</a> to learn more about that process.&nbsp;</p><p>The following information about upcoming meetings is provided by LACSD:</p><p>A virtual meeting will be held on Thursday, March 19 at 7 p.m.&nbsp;Zoom ID 878 4373 3394</p><table listtable="" responsive-table-data-mb"="">    <tbody>        <tr>            <td event_title"="" data-th="Event"><a href="https://www.lacsd.org/Home/Components/Calendar/Event/1585/707" itemprop="url" data-uw-rm-brl="PR" data-uw-original-href="/Home/Components/Calendar/Event/1585/707">Prop 218 Information Meeting (VIRTUAL)</a></td>            <td data-th="Date/Time">03/19/2026 7:00 PM</td>        </tr>        <tr>            <td event_title"="" data-th="Event"><a href="https://www.lacsd.org/Home/Components/Calendar/Event/1587/707" itemprop="url" data-uw-rm-brl="PR" data-uw-original-href="/Home/Components/Calendar/Event/1587/707">Prop 218 Information Meeting (VIRTUAL)</a></td>            <td data-th="Date/Time">04/21/2026 7:00 PM</td>        </tr>        <tr>            <td event_title"="" data-th="Event"><a href="https://www.lacsd.org/Home/Components/Calendar/Event/1579/707" itemprop="url" data-uw-rm-brl="PR" data-uw-original-href="/Home/Components/Calendar/Event/1579/707">Prop 218 Information Meeting</a></td>            <td data-th="Date/Time">04/25/2026 9:00 AM</td>        </tr>        <tr>            <td event_title"="" data-th="Event"><a href="https://www.lacsd.org/Home/Components/Calendar/Event/1591/707" itemprop="url" data-uw-rm-brl="PR" data-uw-original-href="/Home/Components/Calendar/Event/1591/707">Prop 218 Tour of the A.K. Warren Water Resource Facility</a></td>            <td data-th="Date/Time">04/25/2026 10:30 AM</td>        </tr>        <tr>            <td event_title"="" data-th="Event"><a href="https://www.lacsd.org/Home/Components/Calendar/Event/1593/707" itemprop="url" data-uw-rm-brl="PR" data-uw-original-href="/Home/Components/Calendar/Event/1593/707">PUBLIC HEARING - Potential Change in Wastewater Service Rates (Districts 1, 2, 3, 8, 19 and 29)</a></td>            <td data-th="Date/Time">05/13/2026 1:30 PM</td>        </tr>    </tbody></table><p>&nbsp;</p><p>A public hearing will be held on Wednesday, May 13 at 1:30 p.m. at the Joint Administration Office located at 1955 Workman Mill Rd. Whittier, CA 90601.&nbsp;</p><p>Additional information can be <a href="https://www.lacsd.org/services/wastewater-sewage/wastewater-rates-jos" target="_blank" rel="noopener">found here</a>.&nbsp;</p><br>
X-ALT-DESC;FMTTYPE=text/html:<p>According to Los Angeles County Sanitation Districts (LACSD), certain sanitation districts are considering a<a href="https://www.lacsd.org/home/showdocument?id=15860&amp;t=639035610934086532" target="_blank" rel="noopener"> change in wastewater service charge rates</a>. This includes the City of Compton which is<a href="https://www.lacsd.org/services/wastewater-programs-permits/wastewater-revenue-program/who-we-are-what-we-do-for-you" target="_blank" rel="noopener"> located </a>in districts 1, 2, and 8.</p><p> Property owners in affected districts received a mailed notice explaining the proposed rates and next steps.</p><p>Under Prop 218,&nbsp;property owners file written protests opposing the proposed rates before the end of the public hearing. <a href="https://www.lacsd.org/services/wastewater-sewage/wastewater-rates/prop-218" target="_blank" rel="noopener">Click here</a> to learn more about that process.&nbsp;</p><p>The following information about upcoming meetings is provided by LACSD:</p><p>A virtual meeting will be held on Thursday, March 19 at 7 p.m.&nbsp;Zoom ID 878 4373 3394</p><table listtable="" responsive-table-data-mb"="">    <tbody>        <tr>            <td event_title"="" data-th="Event"><a href="https://www.lacsd.org/Home/Components/Calendar/Event/1585/707" itemprop="url" data-uw-rm-brl="PR" data-uw-original-href="/Home/Components/Calendar/Event/1585/707">Prop 218 Information Meeting (VIRTUAL)</a></td>            <td data-th="Date/Time">03/19/2026 7:00 PM</td>        </tr>        <tr>            <td event_title"="" data-th="Event"><a href="https://www.lacsd.org/Home/Components/Calendar/Event/1587/707" itemprop="url" data-uw-rm-brl="PR" data-uw-original-href="/Home/Components/Calendar/Event/1587/707">Prop 218 Information Meeting (VIRTUAL)</a></td>            <td data-th="Date/Time">04/21/2026 7:00 PM</td>        </tr>        <tr>            <td event_title"="" data-th="Event"><a href="https://www.lacsd.org/Home/Components/Calendar/Event/1579/707" itemprop="url" data-uw-rm-brl="PR" data-uw-original-href="/Home/Components/Calendar/Event/1579/707">Prop 218 Information Meeting</a></td>            <td data-th="Date/Time">04/25/2026 9:00 AM</td>        </tr>        <tr>            <td event_title"="" data-th="Event"><a href="https://www.lacsd.org/Home/Components/Calendar/Event/1591/707" itemprop="url" data-uw-rm-brl="PR" data-uw-original-href="/Home/Components/Calendar/Event/1591/707">Prop 218 Tour of the A.K. Warren Water Resource Facility</a></td>            <td data-th="Date/Time">04/25/2026 10:30 AM</td>        </tr>        <tr>            <td event_title"="" data-th="Event"><a href="https://www.lacsd.org/Home/Components/Calendar/Event/1593/707" itemprop="url" data-uw-rm-brl="PR" data-uw-original-href="/Home/Components/Calendar/Event/1593/707">PUBLIC HEARING - Potential Change in Wastewater Service Rates (Districts 1, 2, 3, 8, 19 and 29)</a></td>            <td data-th="Date/Time">05/13/2026 1:30 PM</td>        </tr>    </tbody></table><p>&nbsp;</p><p>A public hearing will be held on Wednesday, May 13 at 1:30 p.m. at the Joint Administration Office located at 1955 Workman Mill Rd. Whittier, CA 90601.&nbsp;</p><p>Additional information can be <a href="https://www.lacsd.org/services/wastewater-sewage/wastewater-rates-jos" target="_blank" rel="noopener">found here</a>.&nbsp;</p><br>
LOCATION:
CLASS:PUBLIC
END:VEVENT
END:VCALENDAR
