BEGIN:VCALENDAR
VERSION:2.0
PRODID:Compton, CA Calendar Creator
METHOD:PUBLISH
BEGIN:VEVENT
DTSTAMP:20260325T132244
DTSTART:20260410T103000
DTEND:20260410T133000
SUMMARY:Spring Beginnings Senior Brunch
DESCRIPTION:<p>Flyer:&nbsp;<a href="https://compton.prod-as.govaccess.org/home/showpublisheddocument/13626/639100412184730000" target="_blank" rel="noopener">2026-Senior Brunch</a></p><p><p style="text-align: center;"></p><p style="text-align: center;"></p></p>
X-ALT-DESC;FMTTYPE=text/html:<p>Flyer:&nbsp;<a href="https://compton.prod-as.govaccess.org/home/showpublisheddocument/13626/639100412184730000" target="_blank" rel="noopener">2026-Senior Brunch</a></p><p><p style="text-align: center;"></p><p style="text-align: center;"></p></p>
LOCATION:Dollarhide Community Center\, 301 N. Tamarind Ave Compton\, California 90220
CLASS:PUBLIC
END:VEVENT
END:VCALENDAR
