BEGIN:VCALENDAR
VERSION:2.0
PRODID:Compton, CA Calendar Creator
METHOD:PUBLISH
BEGIN:VEVENT
DTSTAMP:20260326T095728
DTSTART:20260418T100000
DTEND:20260418T120000
SUMMARY:Town Hall Meeting
DESCRIPTION:<p style="text-align: center;"></p>
X-ALT-DESC;FMTTYPE=text/html:<p style="text-align: center;"></p>
LOCATION:Kelly Park\, 2319 East Caldwell Street Compton\, California 90220
CLASS:PUBLIC
END:VEVENT
END:VCALENDAR
