BEGIN:VCALENDAR
VERSION:2.0
PRODID:Compton, CA Calendar Creator
METHOD:PUBLISH
BEGIN:VEVENT
DTSTAMP:20260416T080027
DTSTART:20260417T180000
DTEND:20260417T210000
SUMMARY:District 2 – Fathers Rise (Day 1)
DESCRIPTION:<p>Flyer:&nbsp;<a href="https://compton.prod-as.govaccess.org/home/showpublisheddocument/13658/639110637762700000" target="_blank" rel="noopener">District 2 – Fathers Rise</a></p><p><p style="text-align: center;">&nbsp;</p></p>
X-ALT-DESC;FMTTYPE=text/html:<p>Flyer:&nbsp;<a href="https://compton.prod-as.govaccess.org/home/showpublisheddocument/13658/639110637762700000" target="_blank" rel="noopener">District 2 – Fathers Rise</a></p><p><p style="text-align: center;">&nbsp;</p></p>
LOCATION:Dollarhide Community Center\, 301 N. Tamarind Ave Compton\, California 90220
CLASS:PUBLIC
END:VEVENT
END:VCALENDAR
