BEGIN:VCALENDAR
VERSION:2.0
PRODID:Compton, CA Calendar Creator
METHOD:PUBLISH
BEGIN:VEVENT
DTSTAMP:20260407T152757
DTSTART:20260408T110000
DTEND:20260408T130000
SUMMARY:Heritage House Mixer
DESCRIPTION:<p>Flyer:&nbsp;<a href="https://compton.prod-as.govaccess.org/home/showpublisheddocument/13664/639111723400530000" target="_blank" rel="noopener">2026-Heritage House Mixer</a></p><p><p style="text-align: center;"></p></p>
X-ALT-DESC;FMTTYPE=text/html:<p>Flyer:&nbsp;<a href="https://compton.prod-as.govaccess.org/home/showpublisheddocument/13664/639111723400530000" target="_blank" rel="noopener">2026-Heritage House Mixer</a></p><p><p style="text-align: center;"></p></p>
LOCATION:
CLASS:PUBLIC
END:VEVENT
END:VCALENDAR
