BEGIN:VCALENDAR
VERSION:2.0
PRODID:Compton, CA Calendar Creator
METHOD:PUBLISH
BEGIN:VEVENT
DTSTAMP:20260414T193359
DTSTART:20260425T000000
DTEND:20260425T235900
SUMMARY:District 1 Free Paper Shredding and E-Waste
DESCRIPTION:<p>Join us for a Free Paper Shredding and E-Waste event!&nbsp;</p><p>Save the date for a Paper Shredding &amp; E-Waste Recycling Event on Saturday, April 25th at Gonzales Park, located at 1101 W. Cressey St., Compton, CA. Compton, it's time to declutter! Bring your old paperwork and unwanted electronic items to our Paper Shredding &amp; E-Waste Recycling Event. Watch your documents get securely shredded on site for added peace of mind. Drive-thru service will be available, simply place your items in your trunk, and our team will take care of the rest. This free event is exclusively for Compton residents. Please bring valid ID or proof of residency. For more information, contact my office at 310-605-5510.</p>
X-ALT-DESC;FMTTYPE=text/html:<p>Join us for a Free Paper Shredding and E-Waste event!&nbsp;</p><p>Save the date for a Paper Shredding &amp; E-Waste Recycling Event on Saturday, April 25th at Gonzales Park, located at 1101 W. Cressey St., Compton, CA. Compton, it's time to declutter! Bring your old paperwork and unwanted electronic items to our Paper Shredding &amp; E-Waste Recycling Event. Watch your documents get securely shredded on site for added peace of mind. Drive-thru service will be available, simply place your items in your trunk, and our team will take care of the rest. This free event is exclusively for Compton residents. Please bring valid ID or proof of residency. For more information, contact my office at 310-605-5510.</p>
LOCATION:Gonzales Park\, 1101 W. Cressey St Compton\, California 90222
CLASS:PUBLIC
END:VEVENT
END:VCALENDAR
