BEGIN:VCALENDAR
VERSION:2.0
PRODID:Compton, CA Calendar Creator
METHOD:PUBLISH
BEGIN:VEVENT
DTSTAMP:20260421T083854
DTSTART:20260421T180000
DTEND:20260421T190000
SUMMARY:Virtual Community Meeting I-105 Metro Express Lanes Project
DESCRIPTION:<table border="0" cellspacing="0" cellpadding="0" width="100%">    <tbody>        <tr>            <td>            <h2>Reminder: Learn About the I-105 ExpressLanes Project at Metro's Virtual Community Meeting </h2>            <p>Don’t miss your opportunity to learn about the I-105 ExpressLanes Project and how it aims to enhance traffic flow and safety. The existing High Occupancy Vehicle (HOV) lane will be converted into two Metro ExpressLanes in each direction. This project is designed to enhance freeway operations, reduce stop-and-go conditions, and minimize overflow traffic onto nearby city streets. Revenue generated from toll lane usage will also be reinvested into mobility improvements and transit projects in communities along the corridor. Construction for Segment 1, between Sepulveda Bl and Central Av, began in early 2025 with anticipated completion in three years.<br>            <br>            <b>Join Metro to Learn More!&nbsp;<a href="https://click.sfmc.metro.net/?qs=ABB7InYiOjEsImQiOjQ4NDd9AAoAAAAAAAgpA9bpXVltv6wkGn1uFo_jSfhYnRpLXGZM8M63oTStXlLt3YzNDouWTgInj89YllVVkk5d4m0Tz3d1OL89VzeL3nYdtYX56g" title=" I-105 ExpressLanes Virtual Community Meeting" data-linkto="https://">I-105 ExpressLanes Virtual Community Meeting</a></b><br>            This virtual community meeting will cover a project status on upcoming construction work activities and planned traffic closures on the I-105.<br>            <br>            <b>Date:</b> Tuesday, April 21, 2026<br>            <b>Time:</b> 6pm–7pm<br>            <b>Zoom:</b></p>            <ul type="disc">                <li>Link:<a href="https://click.sfmc.metro.net/?qs=ABB7InYiOjEsImQiOjQ4NDd9AAoAAAAAAAgpA9bqDhlfruSMTfdt5oSLsZEBKxpbmzK4FVqL3FjQprj58BbMveFENiPs87V4Rt_0o7vjU9ll-QYfuhlUHuAkkCcUQTZN2Q" target="_blank" data-linkto="https://" data-target-href="https://us02web.zoom.us/j/86232391192">https://us02web.zoom.us/j/86232391192</a></li>                <li>Meeting ID: 862 3239 1192</li>                <li>Call: +1.213.338.8477</li>            </ul>            <p>Visit the I-105 ExpressLanes Project <a href="https://click.sfmc.metro.net/?qs=ABB7InYiOjEsImQiOjQ4NDd9AAoAAAAAAAgpA9brvXTGgv6QPYWeCEJQNN9-Jmz8VcMdetT4sPCq65UyDcWrJaKiMxOYuBhq4OjjHt3wv0AHL7U_rUyMKa2iGeLt5hXLXg" title="website" data-linkto="https://">website</a> for more information.<br>            To learn about the Metro ExpressLanes program, please visit <a href="https://click.sfmc.metro.net/?qs=ABB7InYiOjEsImQiOjQ4NDd9AAoAAAAAAAgpA9bsJCdSiFALURg1d3Ppc6BcF9jVtn3n2fZbmGJO_iXbPGn-5Krjbg_vA6rS0EF2grDH_Q70OFKg32KKoV3nkg3jc5FjEQ" target="_blank" data-linkto="https://" data-target-href="https://gcc02.safelinks.protection.outlook.com/?url=https%3A%2F%2Fwww.metroexpresslanes.net%2F&amp;data=05%7C02%7CLopezW3%40metro.net%7Cd4108305bd0e449c616708dd506e66d5%7Cab57129bdbfd4cacaa77fc74c40364af%7C1%7C0%7C638755157307015463%7CUnknown%7CTWFpbGZsb3d8eyJFbXB0eU1hcGkiOnRydWUsIlYiOiIwLjAuMDAwMCIsIlAiOiJXaW4zMiIsIkFOIjoiTWFpbCIsIldUIjoyfQ%3D%3D%7C0%7C%7C%7C&amp;sdata=MT7UY%2BfRQGatMAK854atMxJW2wLdIjdMbjfUN5%2FEftU%3D&amp;reserved=0">Metro ExpressLanes</a>.</p>            <p><b>Keep in touch for more updates</b></p>            <p><b>Visit:</b><a href="https://click.sfmc.metro.net/?qs=ABB7InYiOjEsImQiOjQ4NDd9AAoAAAAAAAgpA9btRJ7ZzUm3vAeYegsAImuyC23xJQpKQUElxCwHwLCGQJy9rvkTusBbzAj-_wYuTxvE1wMthWIm9Tk7sbl9ohuVTlRYmQ" title="metro.net/i105-expresslanes" data-linkto="https://">metro.net/i105-expresslanes</a><br>            <b>Email:</b><a href="mailto:105expresslanes@metro.net?subject=" title="105expresslanes@metro.net" alias="105expresslanes@metro.net" conversion="false" data-linkto="mailto:">105expresslanes@metro.net</a><br>            <b>Call:</b> 213.922.6565</p>            <div align="center"> <hr size="2" width="100%" align="center">            </div>            </td>        </tr>    </tbody></table><table border="0" cellspacing="0" cellpadding="0" width="100%" role="presentation">    <tbody>        <tr>            <td>            <h2>Recordatorio: Obtenga más informacion sobre el projecto I-105 ExpressLanes en nuestra junta comunitaria virtual </h2>            <p>No pierda la oportunidad de obtener más información del Proyecto ExpressLanes del I-105 y cómo mejorará el flujo de tráfico y aumentará la seguridad al convertir el carril existente para vehículos de viajes compartidos (HOV) en dos Metro ExpressLanes en cada dirección. Este proyecto está diseñado para mejorar las operaciones de la autopista, reducirá las condiciones de parada y arranque y minimizará el tráfico desbordado en las calles cercanas. Los ingresos generados por el uso de los carriles de peaje también se invertirán en mejoramientos de movilidad y proyectos de tránsito en las comunidades a lo largo del corredor. La construcción del Segmento 1, entre Sepulveda Bl y Central Av, comenzó a principios de 2025 y se anticipa que durará aproximadamente tres años.<br>            <br>            ¡<b>Acompáñenos para aprender más! <a href="https://click.sfmc.metro.net/?qs=ABB7InYiOjEsImQiOjQ4NDd9AAoAAAAAAAgpA9bubQxv3lM-MGqbWKVwsrurzBbEhJLL9cecpxM1kVJSwrDzVltllZRorXoQBaDlUhOrPFahoZ-nnZHh56r171XyoHMnMA" title="I-105 ExpressLanes Project Junta Comunitaria Virtual" data-linkto="http://">I-105 ExpressLanes Project Junta Comunitaria Virtual</a></b><br>            Acompañe a Metro a una junta comunitaria virtual que ofrecerá una actualización sobre el estado del proyecto, las próximas actividades de construcción y los cierres de tráfico planificados en la I-105.<br>            <br>            <b>Fecha</b>: Martes, 21 de abril, 2026<br>            <b>Hora:</b> 6pm–7pm<br>            <b>Zoom:</b></p>            <ul type="disc">                <li>Enlace: <a href="https://click.sfmc.metro.net/?qs=ABB7InYiOjEsImQiOjQ4NDd9AAoAAAAAAAgpA9bvBq9VJ-5m7Hdb6lJqpX-qv7YS-sPfSlrUao-3kv4UXCy1SOSHqWBUiPSihSPBYxi4D0mtZFEpIoZEyAIQYxzftIfpow" target="_blank" data-linkto="https://" data-target-href="https://us02web.zoom.us/j/86232391192">https://us02web.zoom.us/j/8623239119</a></li>                <li>Meeting ID: 862 3239 1192</li>                <li>Call: +1.213.338.8477</li>            </ul>            <p>Para obtener más información, visite el sitio <a href="https://click.sfmc.metro.net/?qs=ABB7InYiOjEsImQiOjQ4NDd9AAoAAAAAAAgpA9bwzlO3gKiv09A_Jtuq0TEeyop8nE8BEV35RwhhZ-2nZTOD_k0GeaQ4Isb3E2ekRVzFuih7sIaO1XIFkmC9cQZvVsBu6Q" target="_blank" data-linkto="https://" data-target-href="https://www.metro.net/calendar/i-105-expresslanes-project-open-house/">web del proyecto</a>. Para mas informacion sobre ExpressLanes, visite <a href="https://click.sfmc.metro.net/?qs=ABB7InYiOjEsImQiOjQ4NDd9AAoAAAAAAAgpA9bxBL5mqQNqAqif0ycC3fSN9zOMFMsMcCeYDeNXmBBNVem6kYO8dMadmhNuOHCOuUf5p-iFGBcQKGRSZspCvggxtLT20A" target="_blank" data-linkto="https://" data-target-href="https://www.metroexpresslanes.net/">Metro ExpressLanes</a>.</p>            <p><b>Póngase en contacto con el equipo del proyecto </b></p>            <p><b>Sitio Web:</b><a href="https://click.sfmc.metro.net/?qs=ABB7InYiOjEsImQiOjQ4NDd9AAoAAAAAAAgpA9by21d8TcwGAJBZ_ez-GNxv489j6SkLclfxIiqI4Id5zjQ4xrB-yvbdQ9JzjjxvOZJrlk_-rw2VCArMRX0QgBZLeN5qHg" title="metro.net/i105-expresslanes" data-linkto="https://">metro.net/i105-expresslanes</a><br>            <b>Correo electrónico:</b><a href="mailto:105expresslanes@metro.net?subject=" title="105expresslanes@metro.net" alias="105expresslanes@metro.net" conversion="false" data-linkto="mailto:">105expresslanes@metro.net</a><br>            <b>Llama al:</b> 213.922.6565</p>            <div align="center"> <hr size="2" width="100%" align="center">            </div>            </td>        </tr>    </tbody></table><p>&nbsp;</p>
X-ALT-DESC;FMTTYPE=text/html:<table border="0" cellspacing="0" cellpadding="0" width="100%">    <tbody>        <tr>            <td>            <h2>Reminder: Learn About the I-105 ExpressLanes Project at Metro's Virtual Community Meeting </h2>            <p>Don’t miss your opportunity to learn about the I-105 ExpressLanes Project and how it aims to enhance traffic flow and safety. The existing High Occupancy Vehicle (HOV) lane will be converted into two Metro ExpressLanes in each direction. This project is designed to enhance freeway operations, reduce stop-and-go conditions, and minimize overflow traffic onto nearby city streets. Revenue generated from toll lane usage will also be reinvested into mobility improvements and transit projects in communities along the corridor. Construction for Segment 1, between Sepulveda Bl and Central Av, began in early 2025 with anticipated completion in three years.<br>            <br>            <b>Join Metro to Learn More!&nbsp;<a href="https://click.sfmc.metro.net/?qs=ABB7InYiOjEsImQiOjQ4NDd9AAoAAAAAAAgpA9bpXVltv6wkGn1uFo_jSfhYnRpLXGZM8M63oTStXlLt3YzNDouWTgInj89YllVVkk5d4m0Tz3d1OL89VzeL3nYdtYX56g" title=" I-105 ExpressLanes Virtual Community Meeting" data-linkto="https://">I-105 ExpressLanes Virtual Community Meeting</a></b><br>            This virtual community meeting will cover a project status on upcoming construction work activities and planned traffic closures on the I-105.<br>            <br>            <b>Date:</b> Tuesday, April 21, 2026<br>            <b>Time:</b> 6pm–7pm<br>            <b>Zoom:</b></p>            <ul type="disc">                <li>Link:<a href="https://click.sfmc.metro.net/?qs=ABB7InYiOjEsImQiOjQ4NDd9AAoAAAAAAAgpA9bqDhlfruSMTfdt5oSLsZEBKxpbmzK4FVqL3FjQprj58BbMveFENiPs87V4Rt_0o7vjU9ll-QYfuhlUHuAkkCcUQTZN2Q" target="_blank" data-linkto="https://" data-target-href="https://us02web.zoom.us/j/86232391192">https://us02web.zoom.us/j/86232391192</a></li>                <li>Meeting ID: 862 3239 1192</li>                <li>Call: +1.213.338.8477</li>            </ul>            <p>Visit the I-105 ExpressLanes Project <a href="https://click.sfmc.metro.net/?qs=ABB7InYiOjEsImQiOjQ4NDd9AAoAAAAAAAgpA9brvXTGgv6QPYWeCEJQNN9-Jmz8VcMdetT4sPCq65UyDcWrJaKiMxOYuBhq4OjjHt3wv0AHL7U_rUyMKa2iGeLt5hXLXg" title="website" data-linkto="https://">website</a> for more information.<br>            To learn about the Metro ExpressLanes program, please visit <a href="https://click.sfmc.metro.net/?qs=ABB7InYiOjEsImQiOjQ4NDd9AAoAAAAAAAgpA9bsJCdSiFALURg1d3Ppc6BcF9jVtn3n2fZbmGJO_iXbPGn-5Krjbg_vA6rS0EF2grDH_Q70OFKg32KKoV3nkg3jc5FjEQ" target="_blank" data-linkto="https://" data-target-href="https://gcc02.safelinks.protection.outlook.com/?url=https%3A%2F%2Fwww.metroexpresslanes.net%2F&amp;data=05%7C02%7CLopezW3%40metro.net%7Cd4108305bd0e449c616708dd506e66d5%7Cab57129bdbfd4cacaa77fc74c40364af%7C1%7C0%7C638755157307015463%7CUnknown%7CTWFpbGZsb3d8eyJFbXB0eU1hcGkiOnRydWUsIlYiOiIwLjAuMDAwMCIsIlAiOiJXaW4zMiIsIkFOIjoiTWFpbCIsIldUIjoyfQ%3D%3D%7C0%7C%7C%7C&amp;sdata=MT7UY%2BfRQGatMAK854atMxJW2wLdIjdMbjfUN5%2FEftU%3D&amp;reserved=0">Metro ExpressLanes</a>.</p>            <p><b>Keep in touch for more updates</b></p>            <p><b>Visit:</b><a href="https://click.sfmc.metro.net/?qs=ABB7InYiOjEsImQiOjQ4NDd9AAoAAAAAAAgpA9btRJ7ZzUm3vAeYegsAImuyC23xJQpKQUElxCwHwLCGQJy9rvkTusBbzAj-_wYuTxvE1wMthWIm9Tk7sbl9ohuVTlRYmQ" title="metro.net/i105-expresslanes" data-linkto="https://">metro.net/i105-expresslanes</a><br>            <b>Email:</b><a href="mailto:105expresslanes@metro.net?subject=" title="105expresslanes@metro.net" alias="105expresslanes@metro.net" conversion="false" data-linkto="mailto:">105expresslanes@metro.net</a><br>            <b>Call:</b> 213.922.6565</p>            <div align="center"> <hr size="2" width="100%" align="center">            </div>            </td>        </tr>    </tbody></table><table border="0" cellspacing="0" cellpadding="0" width="100%" role="presentation">    <tbody>        <tr>            <td>            <h2>Recordatorio: Obtenga más informacion sobre el projecto I-105 ExpressLanes en nuestra junta comunitaria virtual </h2>            <p>No pierda la oportunidad de obtener más información del Proyecto ExpressLanes del I-105 y cómo mejorará el flujo de tráfico y aumentará la seguridad al convertir el carril existente para vehículos de viajes compartidos (HOV) en dos Metro ExpressLanes en cada dirección. Este proyecto está diseñado para mejorar las operaciones de la autopista, reducirá las condiciones de parada y arranque y minimizará el tráfico desbordado en las calles cercanas. Los ingresos generados por el uso de los carriles de peaje también se invertirán en mejoramientos de movilidad y proyectos de tránsito en las comunidades a lo largo del corredor. La construcción del Segmento 1, entre Sepulveda Bl y Central Av, comenzó a principios de 2025 y se anticipa que durará aproximadamente tres años.<br>            <br>            ¡<b>Acompáñenos para aprender más! <a href="https://click.sfmc.metro.net/?qs=ABB7InYiOjEsImQiOjQ4NDd9AAoAAAAAAAgpA9bubQxv3lM-MGqbWKVwsrurzBbEhJLL9cecpxM1kVJSwrDzVltllZRorXoQBaDlUhOrPFahoZ-nnZHh56r171XyoHMnMA" title="I-105 ExpressLanes Project Junta Comunitaria Virtual" data-linkto="http://">I-105 ExpressLanes Project Junta Comunitaria Virtual</a></b><br>            Acompañe a Metro a una junta comunitaria virtual que ofrecerá una actualización sobre el estado del proyecto, las próximas actividades de construcción y los cierres de tráfico planificados en la I-105.<br>            <br>            <b>Fecha</b>: Martes, 21 de abril, 2026<br>            <b>Hora:</b> 6pm–7pm<br>            <b>Zoom:</b></p>            <ul type="disc">                <li>Enlace: <a href="https://click.sfmc.metro.net/?qs=ABB7InYiOjEsImQiOjQ4NDd9AAoAAAAAAAgpA9bvBq9VJ-5m7Hdb6lJqpX-qv7YS-sPfSlrUao-3kv4UXCy1SOSHqWBUiPSihSPBYxi4D0mtZFEpIoZEyAIQYxzftIfpow" target="_blank" data-linkto="https://" data-target-href="https://us02web.zoom.us/j/86232391192">https://us02web.zoom.us/j/8623239119</a></li>                <li>Meeting ID: 862 3239 1192</li>                <li>Call: +1.213.338.8477</li>            </ul>            <p>Para obtener más información, visite el sitio <a href="https://click.sfmc.metro.net/?qs=ABB7InYiOjEsImQiOjQ4NDd9AAoAAAAAAAgpA9bwzlO3gKiv09A_Jtuq0TEeyop8nE8BEV35RwhhZ-2nZTOD_k0GeaQ4Isb3E2ekRVzFuih7sIaO1XIFkmC9cQZvVsBu6Q" target="_blank" data-linkto="https://" data-target-href="https://www.metro.net/calendar/i-105-expresslanes-project-open-house/">web del proyecto</a>. Para mas informacion sobre ExpressLanes, visite <a href="https://click.sfmc.metro.net/?qs=ABB7InYiOjEsImQiOjQ4NDd9AAoAAAAAAAgpA9bxBL5mqQNqAqif0ycC3fSN9zOMFMsMcCeYDeNXmBBNVem6kYO8dMadmhNuOHCOuUf5p-iFGBcQKGRSZspCvggxtLT20A" target="_blank" data-linkto="https://" data-target-href="https://www.metroexpresslanes.net/">Metro ExpressLanes</a>.</p>            <p><b>Póngase en contacto con el equipo del proyecto </b></p>            <p><b>Sitio Web:</b><a href="https://click.sfmc.metro.net/?qs=ABB7InYiOjEsImQiOjQ4NDd9AAoAAAAAAAgpA9by21d8TcwGAJBZ_ez-GNxv489j6SkLclfxIiqI4Id5zjQ4xrB-yvbdQ9JzjjxvOZJrlk_-rw2VCArMRX0QgBZLeN5qHg" title="metro.net/i105-expresslanes" data-linkto="https://">metro.net/i105-expresslanes</a><br>            <b>Correo electrónico:</b><a href="mailto:105expresslanes@metro.net?subject=" title="105expresslanes@metro.net" alias="105expresslanes@metro.net" conversion="false" data-linkto="mailto:">105expresslanes@metro.net</a><br>            <b>Llama al:</b> 213.922.6565</p>            <div align="center"> <hr size="2" width="100%" align="center">            </div>            </td>        </tr>    </tbody></table><p>&nbsp;</p>
LOCATION:
CLASS:PUBLIC
END:VEVENT
END:VCALENDAR
