BEGIN:VCALENDAR
VERSION:2.0
PRODID:Compton, CA Calendar Creator
METHOD:PUBLISH
BEGIN:VEVENT
DTSTAMP:20260421T152638
DTSTART:20260424T173000
DTEND:20260424T203000
SUMMARY:Voices of Hope
DESCRIPTION:<p style="text-align: center;"></p>
X-ALT-DESC;FMTTYPE=text/html:<p style="text-align: center;"></p>
LOCATION:Fig/Oleander Park\, N Oleander Ave & W Fig St Compton\, California 90222
CLASS:PUBLIC
END:VEVENT
END:VCALENDAR
